BEGIN:VCALENDAR
VERSION:2.0
PRODID:-//United Indians of All Tribes Foundation - Daybreak Star - ECPv6.15.20//NONSGML v1.0//EN
CALSCALE:GREGORIAN
METHOD:PUBLISH
X-WR-CALNAME:United Indians of All Tribes Foundation - Daybreak Star
X-ORIGINAL-URL:https://unitedindians.org
X-WR-CALDESC:Events for United Indians of All Tribes Foundation - Daybreak Star
REFRESH-INTERVAL;VALUE=DURATION:PT1H
X-Robots-Tag:noindex
X-PUBLISHED-TTL:PT1H
BEGIN:VTIMEZONE
TZID:America/Los_Angeles
BEGIN:DAYLIGHT
TZOFFSETFROM:-0800
TZOFFSETTO:-0700
TZNAME:PDT
DTSTART:20250309T100000
END:DAYLIGHT
BEGIN:STANDARD
TZOFFSETFROM:-0700
TZOFFSETTO:-0800
TZNAME:PST
DTSTART:20251102T090000
END:STANDARD
BEGIN:DAYLIGHT
TZOFFSETFROM:-0800
TZOFFSETTO:-0700
TZNAME:PDT
DTSTART:20260308T100000
END:DAYLIGHT
BEGIN:STANDARD
TZOFFSETFROM:-0700
TZOFFSETTO:-0800
TZNAME:PST
DTSTART:20261101T090000
END:STANDARD
BEGIN:DAYLIGHT
TZOFFSETFROM:-0800
TZOFFSETTO:-0700
TZNAME:PDT
DTSTART:20270314T100000
END:DAYLIGHT
BEGIN:STANDARD
TZOFFSETFROM:-0700
TZOFFSETTO:-0800
TZNAME:PST
DTSTART:20271107T090000
END:STANDARD
END:VTIMEZONE
BEGIN:VEVENT
DTSTART;TZID=America/Los_Angeles:20260226T110000
DTEND;TZID=America/Los_Angeles:20260226T143000
DTSTAMP:20260420T032149
CREATED:20260122T000913Z
LAST-MODIFIED:20260122T000913Z
UID:10000481-1772103600-1772116200@unitedindians.org
SUMMARY:Forest Garden Land & Community Tending
DESCRIPTION:Join us for a community effort rooted in Indigenous food sovereignty and land stewardship. These gatherings are about more than gardening; they are an opportunity to show up for the land and support the reclamation of culture and connection!\n \nLed in partnership with Green Seattle\, we are cultivating plants like camas\, salmonberry\, and cedar to nourish our elders and future generations. \nGet Involved\nWhether you are an experienced gardener or new to working with the land\, all are welcome to participate! No prior experience is necessary to help us restore these vital ecosystems. \n\n\nLocation: Daybreak Star Indian Cultural Center \n\n\nAddress: 5011 Bernie Whitebear Way\, Seattle\, WA 98199 \n\n\nContact: For more details\, call or text 720-212-7113 or email shameka.gagnier@gmail.com.
URL:https://unitedindians.org/event/forest-garden-land-community-tending/2026-02-26/
LOCATION:Daybreak Star Indian Cultural Center\, 5011 Bernie Whitebear Way\, Seattle\, WA\, 98199\, United States
ATTACH;FMTTYPE=image/png:https://unitedindians.org/wp-content/uploads/2026/01/16.png
END:VEVENT
BEGIN:VEVENT
DTSTART;TZID=America/Los_Angeles:20260226T183000
DTEND;TZID=America/Los_Angeles:20260226T203000
DTSTAMP:20260420T032149
CREATED:20260217T190232Z
LAST-MODIFIED:20260306T190414Z
UID:10000499-1772130600-1772137800@unitedindians.org
SUMMARY:Powwow Dance Classes
DESCRIPTION:We are proud to announce that Powwow Dance Classes have returned! \nThis 19 week program is open to all Indigenous families and individuals. Participants will dive deep into the protocols: history: and cultural significance of the Powwow. This series offers a unique opportunity for dancers to be honored during a special (optional) Coming Out Ceremony at the 37th Annual Indian Days Powwow. \nWorkshop Details\n\n📅 Dates: Thursdays from February 19th through July 2nd (UPDATE: There will be class on March 12\, 2026)\n⏰ Time: 6:30 PM to 8:30 PM\n📍 Location: Daybreak Star Cultural Center (5011 Bernie Whitebear Way: Seattle: WA)\n🍎 Refreshments provided!\n\nDance Styles Taught\n\nMens’ Styles: Grass: Fancy: and Traditional\nWomens’ Styles: Jingle: Fancy: and Traditional\n\nMeet the Instructors\n\nLauren Nabahe (Paiute Shoshone: Navajo: Mono)\nJobey T. Williams (Tulalip and Yakama)\n\nContact and More Information\nFor questions or further details: please reach out via email at: Events@unitedindians.org \nView the event flyer here: https://www.facebook.com/share/p/1KSaA6TiNb/
URL:https://unitedindians.org/event/powwow-dance-classes-2/2026-02-26/
LOCATION:Daybreak Star Indian Cultural Center\, 5011 Bernie Whitebear Way\, Seattle\, WA\, 98199\, United States
ATTACH;FMTTYPE=image/png:https://unitedindians.org/wp-content/uploads/2026/02/Powwow_Dance_Classes-Print-1.png
END:VEVENT
END:VCALENDAR