BEGIN:VCALENDAR
VERSION:2.0
PRODID:-//United Indians of All Tribes Foundation - Daybreak Star - ECPv6.15.20//NONSGML v1.0//EN
CALSCALE:GREGORIAN
METHOD:PUBLISH
X-ORIGINAL-URL:https://unitedindians.org
X-WR-CALDESC:Events for United Indians of All Tribes Foundation - Daybreak Star
REFRESH-INTERVAL;VALUE=DURATION:PT1H
X-Robots-Tag:noindex
X-PUBLISHED-TTL:PT1H
BEGIN:VTIMEZONE
TZID:America/Los_Angeles
BEGIN:DAYLIGHT
TZOFFSETFROM:-0800
TZOFFSETTO:-0700
TZNAME:PDT
DTSTART:20250309T100000
END:DAYLIGHT
BEGIN:STANDARD
TZOFFSETFROM:-0700
TZOFFSETTO:-0800
TZNAME:PST
DTSTART:20251102T090000
END:STANDARD
BEGIN:DAYLIGHT
TZOFFSETFROM:-0800
TZOFFSETTO:-0700
TZNAME:PDT
DTSTART:20260308T100000
END:DAYLIGHT
BEGIN:STANDARD
TZOFFSETFROM:-0700
TZOFFSETTO:-0800
TZNAME:PST
DTSTART:20261101T090000
END:STANDARD
BEGIN:DAYLIGHT
TZOFFSETFROM:-0800
TZOFFSETTO:-0700
TZNAME:PDT
DTSTART:20270314T100000
END:DAYLIGHT
BEGIN:STANDARD
TZOFFSETFROM:-0700
TZOFFSETTO:-0800
TZNAME:PST
DTSTART:20271107T090000
END:STANDARD
END:VTIMEZONE
BEGIN:VEVENT
DTSTART;TZID=America/Los_Angeles:20260307T113000
DTEND;TZID=America/Los_Angeles:20260307T140000
DTSTAMP:20260420T032318
CREATED:20260225T233318Z
LAST-MODIFIED:20260302T232445Z
UID:10000550-1772883000-1772892000@unitedindians.org
SUMMARY:Commemorating the Takeover of Fort Lawton
DESCRIPTION:The history of Discovery Park is inseparable from the bold activism of the Native community. In March 1970\, the Takeover of Fort Lawton sparked a movement that changed the landscape of Seattle forever.  \n  \n\n\n\n\nWhen Fort Lawton was declared surplus land\, Native activists joined together to occupy the land with hopes of garnering a space for the community. While many remember the iconic March 8th fence scaling\, we gather this year to honor the second occupation where leaders of the movement heroically scaled the cliffs at Fort Lawton. This strategic move ultimately helped UIATF secure a permanent space for the Daybreak Star Indian Cultural Center.  \n  \n\n\n\n\nToday\, we steward 20 acres at Daybreak Star\, but our connection to the 500-acre vision remains. Join us for a commemorative march starting where the second occupation took place and ending at Daybreak Star for guest speakers and lunch! \n\n\n\n March 7th\, 2026\n 11:30 AM – 2:00 PM\n Lunch will be served after the march at 1:00 PM at Daybreak Star\n\n Shuttles provided after lunch to North & South parking lots (see map) \n\n\n\n#DiscoveryPark #daybreakstarindianculturalcenter #SeattleHistory #NativeActivism #FortLawton #IndigenousRights #AmericanIndianMovement
URL:https://unitedindians.org/event/commemorating-the-takeover-of-fort-lawton/
LOCATION:Daybreak Star Indian Cultural Center\, 5011 Bernie Whitebear Way\, Seattle\, WA\, 98199\, United States
ATTACH;FMTTYPE=image/png:https://unitedindians.org/wp-content/uploads/2026/02/1.png
END:VEVENT
END:VCALENDAR