BEGIN:VCALENDAR
VERSION:2.0
PRODID:-//United Indians of All Tribes Foundation - Daybreak Star - ECPv6.15.20//NONSGML v1.0//EN
CALSCALE:GREGORIAN
METHOD:PUBLISH
X-WR-CALNAME:United Indians of All Tribes Foundation - Daybreak Star
X-ORIGINAL-URL:https://unitedindians.org
X-WR-CALDESC:Events for United Indians of All Tribes Foundation - Daybreak Star
REFRESH-INTERVAL;VALUE=DURATION:PT1H
X-Robots-Tag:noindex
X-PUBLISHED-TTL:PT1H
BEGIN:VTIMEZONE
TZID:America/Los_Angeles
BEGIN:DAYLIGHT
TZOFFSETFROM:-0800
TZOFFSETTO:-0700
TZNAME:PDT
DTSTART:20250309T100000
END:DAYLIGHT
BEGIN:STANDARD
TZOFFSETFROM:-0700
TZOFFSETTO:-0800
TZNAME:PST
DTSTART:20251102T090000
END:STANDARD
BEGIN:DAYLIGHT
TZOFFSETFROM:-0800
TZOFFSETTO:-0700
TZNAME:PDT
DTSTART:20260308T100000
END:DAYLIGHT
BEGIN:STANDARD
TZOFFSETFROM:-0700
TZOFFSETTO:-0800
TZNAME:PST
DTSTART:20261101T090000
END:STANDARD
BEGIN:DAYLIGHT
TZOFFSETFROM:-0800
TZOFFSETTO:-0700
TZNAME:PDT
DTSTART:20270314T100000
END:DAYLIGHT
BEGIN:STANDARD
TZOFFSETFROM:-0700
TZOFFSETTO:-0800
TZNAME:PST
DTSTART:20271107T090000
END:STANDARD
END:VTIMEZONE
BEGIN:VEVENT
DTSTART;TZID=America/Los_Angeles:20260321T110000
DTEND;TZID=America/Los_Angeles:20260321T170000
DTSTAMP:20260420T031220
CREATED:20260114T172055Z
LAST-MODIFIED:20260114T172055Z
UID:10000472-1774090800-1774112400@unitedindians.org
SUMMARY:Welcome Home Vietnam Veterans Powwow
DESCRIPTION:Mark your calendars for this year’s Welcome Home Vietnam Veterans Powwow! 🪶\n\nPlease join us as we come together to honor our veterans & strengthen our community. 🎖️🤝\n\n📅 Saturday\, March 21st\, 11:00 AM – 5:00 PM\n\n🦦 Coastal Grand Entry: 11:30 AM\n🫎 Grand Entry 12:30 PM \n📍 Daybreak Star Indian Cultural Center\n\nFeaturing: Veteran Honoring\, Veteran Resources\, Community Lunch. 💫\n\nQuestions? Contact Kariel at kariel@unkitawa.org\n\n#VietnamVeterans #Powwow #HonorOurVeterans
URL:https://unitedindians.org/event/welcome-home-vietnam-veterans-powwow/
LOCATION:Daybreak Star Indian Cultural Center\, 5011 Bernie Whitebear Way\, Seattle\, WA\, 98199\, United States
ATTACH;FMTTYPE=image/png:https://unitedindians.org/wp-content/uploads/2026/01/Welcome-Home-Vietnam-Veterans-Powwow.png
END:VEVENT
END:VCALENDAR