BEGIN:VCALENDAR
VERSION:2.0
PRODID:-//United Indians of All Tribes Foundation - Daybreak Star - ECPv6.15.20//NONSGML v1.0//EN
CALSCALE:GREGORIAN
METHOD:PUBLISH
X-WR-CALNAME:United Indians of All Tribes Foundation - Daybreak Star
X-ORIGINAL-URL:https://unitedindians.org
X-WR-CALDESC:Events for United Indians of All Tribes Foundation - Daybreak Star
REFRESH-INTERVAL;VALUE=DURATION:PT1H
X-Robots-Tag:noindex
X-PUBLISHED-TTL:PT1H
BEGIN:VTIMEZONE
TZID:America/Los_Angeles
BEGIN:DAYLIGHT
TZOFFSETFROM:-0800
TZOFFSETTO:-0700
TZNAME:PDT
DTSTART:20250309T100000
END:DAYLIGHT
BEGIN:STANDARD
TZOFFSETFROM:-0700
TZOFFSETTO:-0800
TZNAME:PST
DTSTART:20251102T090000
END:STANDARD
BEGIN:DAYLIGHT
TZOFFSETFROM:-0800
TZOFFSETTO:-0700
TZNAME:PDT
DTSTART:20260308T100000
END:DAYLIGHT
BEGIN:STANDARD
TZOFFSETFROM:-0700
TZOFFSETTO:-0800
TZNAME:PST
DTSTART:20261101T090000
END:STANDARD
BEGIN:DAYLIGHT
TZOFFSETFROM:-0800
TZOFFSETTO:-0700
TZNAME:PDT
DTSTART:20270314T100000
END:DAYLIGHT
BEGIN:STANDARD
TZOFFSETFROM:-0700
TZOFFSETTO:-0800
TZNAME:PST
DTSTART:20271107T090000
END:STANDARD
END:VTIMEZONE
BEGIN:VEVENT
DTSTART;TZID=America/Los_Angeles:20260324T160000
DTEND;TZID=America/Los_Angeles:20260324T180000
DTSTAMP:20260420T032304
CREATED:20260312T185850Z
LAST-MODIFIED:20260312T185850Z
UID:10000669-1774368000-1774375200@unitedindians.org
SUMMARY:Tenant Services Workshop: Renting in Seattle - Understanding Your Housing Voucher
DESCRIPTION:Our Tenant Services’ Workshops are back!  Our next workshop focuses on navigating the complexities of housing vouchers and understanding your role as a tenant in Seattle.\n\n\n\nWe’ll discuss:\n How to effectively use your housing voucher\n A breakdown of your rights and responsibilities as a renter\n Tips for maintaining a positive relationship with your landlord\n\n\n\nEvent Details:\n Date: March 24\n Time: 4 PM to 6 PM\n Location: Labateyah\, 9010 13th Ave NW\, Seattle 98117\n\n\n\nSecure your spot by registering here: https://forms.office.com/r/tRPBDXHNdu \n\n\n\nFor questions\, mobility accommodations\, or more details\, please email our team at HPP@UNITEDINDIANS.ORG \n\n\n#SeattleHousing #TenantRights #WAHousingVoucher #SeattleRenters
URL:https://unitedindians.org/event/tenant-services-workshop-renting-in-seattle-understanding-your-housing-voucher/
LOCATION:Labateyah Youth Home\, 9010 13th Ave NW\, Seattle\, WA\, 98117\, United States
ATTACH;FMTTYPE=image/png:https://unitedindians.org/wp-content/uploads/2026/03/TSLB_Workshops_Print.png
END:VEVENT
END:VCALENDAR